BEGIN:VCALENDAR
VERSION:2.0
PRODID:-//Podlasie SLOWFEST by ŁOMŻA - ECPv5.13.0//NONSGML v1.0//EN
CALSCALE:GREGORIAN
METHOD:PUBLISH
X-WR-CALNAME:Podlasie SLOWFEST by ŁOMŻA
X-ORIGINAL-URL:https://podlasieslowfest.pl
X-WR-CALDESC:Events for Podlasie SLOWFEST by ŁOMŻA
REFRESH-INTERVAL;VALUE=DURATION:PT1H
X-Robots-Tag:noindex
X-PUBLISHED-TTL:PT1H
BEGIN:VTIMEZONE
TZID:Europe/Warsaw
BEGIN:DAYLIGHT
TZOFFSETFROM:+0100
TZOFFSETTO:+0200
TZNAME:CEST
DTSTART:20250330T010000
END:DAYLIGHT
BEGIN:STANDARD
TZOFFSETFROM:+0200
TZOFFSETTO:+0100
TZNAME:CET
DTSTART:20251026T010000
END:STANDARD
END:VTIMEZONE
BEGIN:VEVENT
DTSTART;TZID=Europe/Warsaw:20250803T103000
DTEND;TZID=Europe/Warsaw:20250803T130000
DTSTAMP:20260424T153422
CREATED:20250723T151048Z
LAST-MODIFIED:20250723T152054Z
UID:5458-1754217000-1754226000@podlasieslowfest.pl
SUMMARY:Bookcrossing
DESCRIPTION:[vc_row][vc_column width=”1/2″][vc_single_image image=”5459″ img_size=”full”][vc_column_text]wstęp wolny[/vc_column_text][/vc_column][vc_column width=”1/2″][vc_column_text]Strefa Wolnych Książek na Podlasie SlowFest by Łomża\nSupraśl\, scena letnia z tyłu Domu Ludowego | codziennie\, ok. 10.00–20.00 \nW zacisznym zakątku za Domem Ludowym\, pod osłoną drzew\, czeka na Państwa nasza strefa bookcrossingu. To miejsce stworzone z myślą o tych\, którzy wierzą\, że literatura łączy ludzi ponad czasem i przestrzenią. \nTo tradycja\, która już na stałe wpisała się w pejzaż Podlasie SlowFest by Łomża. Cichy rytuał dzielenia się słowem. \nBookcrossing to nie tylko wymiana książek. To gest zaufania\, znak wspólnoty czytelników. Pozwalamy książkom wędrować z rąk do rąk\, z domów do plecaków\, z serc do serc. Każdy i każda może zabrać ze sobą wybraną książkę\, która czeka właśnie na Was. \nNie oczekujemy niczego w zamian.\nWierzymy\, że książki chcą być czytane – dlatego przygotowaliśmy dla Państwa starannie wybrane tytuły\, które można po prostu zabrać ze sobą. Na spacer. Na hamak. Do domu. \nNie trzeba nic przynosić – choć jeśli ktoś ma ochotę\, można zostawić książkę\, by ruszyła dalej w drogę. Najważniejsze\, by czytać – i pozwolić książkom żyć dalej\, kiedy już spełnią swoją rolę. \nJak korzystać?\n\nPrzyjdź\, rozejrzyj się\, weź książkę\, która Cię poruszy.\nZatrzymaj ją\, przeczytaj\, podaj dalej.\nMożesz zostawić książkę\, ale nie musisz.\nMożesz zostawić też kilka słów dla kolejnego czytelnika: cytat\, myśl\, znak obecności.\nSzanuj książki. Niech to miejsce będzie bezpieczną przystanią dla słowa.\n\nNiech książki wędrują. Niech słowo trwa. Niech dzielenie się czytaniem stanie się ponownie częścią letniego rytmu SlowFestu.[/vc_column_text][/vc_column][/vc_row]
URL:https://podlasieslowfest.pl/event/bookcrossing/
LOCATION:Dom Ludowy w Supraślu\, ul. Piłsudskiego 11\, Supraśl\, Podlaskie
CATEGORIES:Kultura
ATTACH;FMTTYPE=image/png:https://podlasieslowfest.pl/wp-content/uploads/2025/07/bookcrossing1000-x-315-px.png
ORGANIZER;CN="Stowarzyszenie%20Dalapenia":MAILTO:kontakt@dalapenia.pl
END:VEVENT
BEGIN:VEVENT
DTSTART;TZID=Europe/Warsaw:20250803T110000
DTEND;TZID=Europe/Warsaw:20250803T124000
DTSTAMP:20260424T153422
CREATED:20250518T132912Z
LAST-MODIFIED:20250722T171525Z
UID:5173-1754218800-1754224800@podlasieslowfest.pl
SUMMARY:Film Nelly Rapp i sekret Mrocznego Lasu\, reż.  Johan Rosell
DESCRIPTION:[vc_row][vc_column width=”1/2″][vc_single_image image=”5175″ img_size=”full”][vc_column_text]Bilety w cenie 10 zł do nabycia w kasie przed wydarzeniem lub online poniżej:[/vc_column_text][vc_single_image image=”2035″ onclick=”custom_link” img_link_target=”_blank” link=”https://ekobilet.pl/e/nelly-rapp-i-sekret-mrocznego-lasu-film-595183?evt=595183″][/vc_column][vc_column width=”1/2″][vc_column_text] \nTytuł: Nelly Rapp i sekret Mrocznego Lasu\nReżyser: Johan Rosell\nKraj produkcji: Szwecja Rok produkcji: 2023\nGatunek filmowy: Film dla dzieci i młodzieży\nCzas trwania: 96 minuty \n„Nelly Rapp i sekret Mrocznego Lasu” to szwedzki film familijny z 2023 roku w reżyserii Johana Rosella\, będący kontynuacją przygód młodej łowczyni potworów znanej z książek Martina Widmarka. Tym razem Nelly spędza święta z tatą i jego nową partnerką oraz jej synem Valle u wujka Hannibala. Choć atmosfera jest świąteczna\, dziewczynka czuje się przygnębiona z powodu tęsknoty za zaginioną mamą. \nGdy Nelly natrafia na artykuł o tajemniczym zniknięciu robotników budujących pobliską trasę kolejową\, postanawia zbadać sprawę. Wraz z przyrodnim bratem i wiernym psem Londynem wyrusza do Mrocznego Lasu\, by odnaleźć magiczne Lustro Śmierci\, które może umożliwić jej kontakt z mamą. Na swojej drodze spotyka wilkołaki\, zjawy i inne mityczne stworzenia\, co staje się dla niej nie tylko przygodą\, ale i okazją do zmierzenia się z własnymi lękami i przeszłością. \nFilm łączy elementy przygody\, fantastyki i emocjonalnej opowieści o rodzinie i stracie\, oferując młodym widzom zarówno rozrywkę\, jak i wartościowe przesłanie. \n[/vc_column_text][vc_column_text]https://youtu.be/Fsa1yDKkehU?si=3q77C300mRcAlilP[/vc_column_text][/vc_column][/vc_row]
URL:https://podlasieslowfest.pl/event/nelly-rapp/
LOCATION:Dom Ludowy w Supraślu\, ul. Piłsudskiego 11\, Supraśl\, Podlaskie
CATEGORIES:Dzieci,Film
ATTACH;FMTTYPE=image/jpeg:https://podlasieslowfest.pl/wp-content/uploads/2025/05/Nelly-Rapp-i-sekret-Mrocznego-Lasu-FOTOS-POBOCZNY-2-1-scaled-1.jpg
ORGANIZER;CN="Stowarzyszenie%20Dalapenia":MAILTO:kontakt@dalapenia.pl
END:VEVENT
END:VCALENDAR