BEGIN:VCALENDAR
VERSION:2.0
PRODID:-//Podlasie SLOWFEST by ŁOMŻA - ECPv5.13.0//NONSGML v1.0//EN
CALSCALE:GREGORIAN
METHOD:PUBLISH
X-WR-CALNAME:Podlasie SLOWFEST by ŁOMŻA
X-ORIGINAL-URL:https://podlasieslowfest.pl
X-WR-CALDESC:Events for Podlasie SLOWFEST by ŁOMŻA
REFRESH-INTERVAL;VALUE=DURATION:PT1H
X-Robots-Tag:noindex
X-PUBLISHED-TTL:PT1H
BEGIN:VTIMEZONE
TZID:Europe/Warsaw
BEGIN:DAYLIGHT
TZOFFSETFROM:+0100
TZOFFSETTO:+0200
TZNAME:CEST
DTSTART:20250330T010000
END:DAYLIGHT
BEGIN:STANDARD
TZOFFSETFROM:+0200
TZOFFSETTO:+0100
TZNAME:CET
DTSTART:20251026T010000
END:STANDARD
END:VTIMEZONE
BEGIN:VEVENT
DTSTART;TZID=Europe/Warsaw:20250718T200000
DTEND;TZID=Europe/Warsaw:20250718T213000
DTSTAMP:20260424T171437
CREATED:20250504T111233Z
LAST-MODIFIED:20250716T210241Z
UID:5044-1752868800-1752874200@podlasieslowfest.pl
SUMMARY:Bona Sforza d’Aragona – jazzowy poemat historyczny
DESCRIPTION:[vc_row][vc_column width=”1/2″][vc_single_image image=”5352″ img_size=”full”][vc_column_text]Obowiązują wejściówki na wydarzenie. \nUWAGA! Brak wolnych miejsc. W razie rezygnacji z rezerwacji prosimy o zwrot przez system biletowy.[/vc_column_text][vc_single_image image=”3801″][/vc_column][vc_column width=”1/2″][vc_column_text]„Bona Sforza d’Aragona” – jazzowy poemat historyczny \nTekst: Michał Zabłocki\nMuzyka: Jakub Stankiewicz \nWykonawcy: \nKasia Cygan – Bona (śpiew\, aktorstwo)\nAndrzej Pieczyński – narrator\,\nPrzemysław Stefańczyk – fortepian\nMikołaj Sikora – kontrabas\nOleg Dyyak – cajon\, instrumenty perkusyjne\nPaweł Dyyak – perkusja \n„Bona d’Aragon” to niezwykłe widowisko\, łączące elementy teatru muzycznego\, poetycki monodram i koncert jazzowy. Spektakl w żartobliwy sposób opowiada historię królowej Bony Sforzy – jednej z najciekawszych i najbardziej kontrowersyjnych postaci epoki renesansu. To opowieść o kobiecie silnej\, ambitnej\, uczonej i bezkompromisowej – ale także matce\, żonie i samotnej wdowie.\nAutorem libretta jest Michał Zabłocki\, poeta i dramaturg\, twórca „Multipoezji”\, znany z tekstów m.in. dla Grzegorza Turnaua czy Czesława Mozila. Za muzykę odpowiada Jakub Stankiewicz\, wybitny kompozytor i pianista jazzowy. Ich wspólne dzieło – poetycki cykl ośmiu scen – przedstawia Bonę w różnych odsłonach: jako córkę\, polityczkę\, stratega\, matkę\, wdowę i ofiarę. Historia opowiedziana jest z perspektywy współczesnej\, z humorem i wzruszeniem\, a jednocześnie z szacunkiem dla historycznego kontekstu.\nKameralna forma teatralna łączy liryczne partie wokalne w wykonaniu Kasi Cygan (Bona) z narracją Andrzeja Pieczyńskiego (poeta\, komentator) oraz wyjątkową warstwą muzyczną – żywą i pełną emocji – tworzoną przez uznanych instrumentalistów młodego pokolenia. Stylowa mieszanka jazzu\, muzyki klasycznej i teatralnej narracji tworzy unikalny klimat\, który porusza widzów niezależnie od wieku.[/vc_column_text][vc_single_image image=”4959″][/vc_column][/vc_row]
URL:https://podlasieslowfest.pl/event/bona-daragon-jazzowy-poemat-historyczny/
LOCATION:Hala Kultury w Łomży\, Stary Rynek\, Łomża\, Polska
CATEGORIES:Koncert,Teatr
ATTACH;FMTTYPE=image/jpeg:https://podlasieslowfest.pl/wp-content/uploads/2025/05/koncert-bona_1_original.jpg
ORGANIZER;CN="Stowarzyszenie%20Dalapenia":MAILTO:kontakt@dalapenia.pl
END:VEVENT
END:VCALENDAR