BEGIN:VCALENDAR
VERSION:2.0
PRODID:-//Podlasie SLOWFEST by ŁOMŻA - ECPv5.13.0//NONSGML v1.0//EN
CALSCALE:GREGORIAN
METHOD:PUBLISH
X-WR-CALNAME:Podlasie SLOWFEST by ŁOMŻA
X-ORIGINAL-URL:https://podlasieslowfest.pl
X-WR-CALDESC:Events for Podlasie SLOWFEST by ŁOMŻA
REFRESH-INTERVAL;VALUE=DURATION:PT1H
X-Robots-Tag:noindex
X-PUBLISHED-TTL:PT1H
BEGIN:VTIMEZONE
TZID:Europe/Warsaw
BEGIN:DAYLIGHT
TZOFFSETFROM:+0100
TZOFFSETTO:+0200
TZNAME:CEST
DTSTART:20250330T010000
END:DAYLIGHT
BEGIN:STANDARD
TZOFFSETFROM:+0200
TZOFFSETTO:+0100
TZNAME:CET
DTSTART:20251026T010000
END:STANDARD
END:VTIMEZONE
BEGIN:VEVENT
DTSTART;TZID=Europe/Warsaw:20250801T143000
DTEND;TZID=Europe/Warsaw:20250801T153000
DTSTAMP:20260425T143324
CREATED:20250511T163023Z
LAST-MODIFIED:20250722T171341Z
UID:5143-1754058600-1754062200@podlasieslowfest.pl
SUMMARY:Historie wydłubane. Śladami ilustracji książkowej
DESCRIPTION:[vc_row][vc_column width=”1/2″][vc_single_image image=”5136″ img_size=”full”][vc_column_text]Bilety w cenie 20 zł do nabycia w kasie przed wydarzeniem lub online poniżej:[/vc_column_text][vc_single_image image=”2035″ onclick=”custom_link” img_link_target=”_blank” link=”https://ekobilet.pl/e/historie-wydlubane-sladami-ilustracji-ksiazkowej-595173?evt=595173″][/vc_column][vc_column width=”1/2″][vc_column_text]Historie wydłubane. Śladami ilustracji książkowej. \nOprowadzanie specjalne po Muzeum Sztuki Drukarskiej i Papiernictwa w Supraślu\, \nWszyscy kochamy pięknie ilustrowane książki. A powiedzieć\, że ilustracja jest tak stara jak książka\, to mało! Obraz jest wszak dużo starszy niż pismo. Manuskrypty były wspaniale zdobione ręcznie przez artystów iluminatorów\, podobnie jak pierwsze europejskie książki drukowane. Z czasem również ilustracje zaczęły być odbijane w drukarniach. W zależności od sposobu wykonania matrycy\, można było je drukować razem z tekstem lub w osobnym warsztacie. W trakcie oprowadzania zatrzymamy się na chwilę przy różnych technikach wykonywania ilustracji (drzeworyt\, miedzioryt\, litografia). Obejrzymy prasy drukarskie i narzędzia wykorzystywane przy poszczególnych technikach\, a także same matryce i odbitki. \nOprowadzanie specjalne po Muzeum Sztuki Drukarskiej i Papiernictwa w Supraślu będzie ciekawym urozmaiceniem dla miłośników muzeum\, a dla tych\, którzy jeszcze muzeum nie znają\, okazją do rozbudzenia fascynacji sztuką drukarską.   [/vc_column_text][/vc_column][/vc_row]
URL:https://podlasieslowfest.pl/event/historie-wydlubane-sladami-ilustracji-ksiazkowej-iv/
LOCATION:Muzeum Sztuki Drukarskiej i Papiernictwa\, Supraśl\, Podlaskie\, Polska
CATEGORIES:Warsztaty
ATTACH;FMTTYPE=image/jpeg:https://podlasieslowfest.pl/wp-content/uploads/2025/05/oprowadzanie-druk2.jpg
ORGANIZER;CN="Stowarzyszenie%20Dalapenia":MAILTO:kontakt@dalapenia.pl
END:VEVENT
BEGIN:VEVENT
DTSTART;TZID=Europe/Warsaw:20250731T180000
DTEND;TZID=Europe/Warsaw:20250731T193000
DTSTAMP:20260425T143324
CREATED:20250511T164129Z
LAST-MODIFIED:20250625T211332Z
UID:5149-1753984800-1753990200@podlasieslowfest.pl
SUMMARY:Tańce w kręgu
DESCRIPTION:[vc_row][vc_column width=”1/2″][vc_single_image image=”5146″ img_size=”full”][vc_column_text]Udział bezpłatny.[/vc_column_text][/vc_column][vc_column width=”1/2″][vc_column_text]Tańce w kręgu \nProwadzenie: Marta Żukowska \nBulwary im. Wołkowa (łąka) \nTańce w kręgu – to tańce  ludowe\, etniczne\,  tańczone w korowodzie\, kręgu. Znajdują się wśród nich tańce z wielu zakątków świata. Przeznaczone są dla wszystkich\, bez względu na umiejętności i sprawność fizyczną. Są proste i składają się z sekwencji kroków powtarzających się przez cały taniec. Różnorodność proponowanych tańców i ich melodii umożliwia niewerbalną ekspresję uczuć i doświadczanie energii własnego ciała oraz energii innych tańczących. Bez znaczenia jest wiek\, partner czy doświadczenie taneczne\, każdy może włączyć się do kręgu. \nSiłą tańców w kręgu jest poczucie wspólnoty i świadome skupienie na energii grupy\, energii powstającej podczas wspólnego poruszania się w jednym rytmie. W spotkaniach tańczących w kręgu nie chodzi o dążenie do perfekcji\, o opanowanie kroków i figur\, ale o to by być razem\, ze sobą i z innymi\, by pozwolić sobie na spontaniczność. Tańce  w kręgu to także indywidualne zaangażowanie każdego tańczącego\, to medytacja w ruchu inspirująca zarówno ciało\, umysł jak i duszę\, budząca uśpioną w nich moc i ekspresję\, wzmacniająca kontakt z samym sobą\, z innymi\, ze światem zewnętrznym. \nZajęcia prowadzi Marta Żukowska od lat współpracująca ze SlowFest – Instruktor Tańca Nowoczesnego\, Instruktor Tańców w Kręgu\,  absolwentka Kursu Terapii Tańcem i Ruchem. \n„O tańcu nie da się pisać\,(…) taniec trzeba tańczyć” /P.Coelho/ \nUWAGA: Zajęcia w plenerze\, na trawie. Zastrzegamy sobie prawo do odwołania lub zmiany miejsca spotkania w razie niekorzystnych warunków atmosferycznych.[/vc_column_text][/vc_column][/vc_row]
URL:https://podlasieslowfest.pl/event/tance-w-kregu-ii/
LOCATION:Bulwary im. Wołkowa
CATEGORIES:Warsztaty
ATTACH;FMTTYPE=image/jpeg:https://podlasieslowfest.pl/wp-content/uploads/2025/05/tancewkregu2.jpg
ORGANIZER;CN="Stowarzyszenie%20Dalapenia":MAILTO:kontakt@dalapenia.pl
END:VEVENT
BEGIN:VEVENT
DTSTART;TZID=Europe/Warsaw:20250730T163000
DTEND;TZID=Europe/Warsaw:20250730T193000
DTSTAMP:20260425T143324
CREATED:20250511T165644Z
LAST-MODIFIED:20250625T211556Z
UID:5164-1753893000-1753903800@podlasieslowfest.pl
SUMMARY:Motanki - warsztaty dla kobiet
DESCRIPTION:[vc_row][vc_column width=”1/2″][vc_single_image image=”5166″ img_size=”full”][vc_column_text]Bilet: 30 zł[/vc_column_text][vc_single_image image=”2035″ onclick=”custom_link” img_link_target=”_blank” link=”https://ekobilet.pl/e/motanki-595170?evt=595170″][/vc_column][vc_column width=”1/2″][vc_column_text]Motanki \nProwadzenie: Marta Żukowska \nDom Ludowy (plener) \nWarsztaty tworzenia słowiańskich lalek Motanek to zaproszenie do wspólnego kręgu kobiet\, w którym przywołamy moc słowiańskiej tradycji i intuicji. Motanki to ręcznie tworzone lalki mocy – bez użycia igły\, bez rysowania twarzy\, z pełną uważnością i intencją. Dawniej wykonywane przez kobiety jako amulety ochronne\, symbole płodności\, zdrowia i dobrobytu\, dziś mogą stać się osobistym talizmanem\, odzwierciedlającym potrzeby twórczyni\, marzenia i kobiecą siłę. \nW atmosferze wspólnoty\, twórczego skupienia i czułości dla siebie\, stworzymy unikalne\, osobiste lalki\, łącząc się z mądrością przodkiń i własnym wnętrzem. Spotkajmy się w kręgu – stwórzmy talizmany\, które będą nas wspierać. \nWarsztaty dla kobiet 16+. \nWszystkie materiały zapewnia organizator. Spotkanie planowane jest w plenerze\, a w razie niekorzystnych warunków atmosferycznych – w budynku.[/vc_column_text][/vc_column][/vc_row]
URL:https://podlasieslowfest.pl/event/motanki/
LOCATION:Dom Ludowy w Supraślu\, ul. Piłsudskiego 11\, Supraśl\, Podlaskie
CATEGORIES:Kultura,Warsztaty,Warsztaty relaksacyjne
ATTACH;FMTTYPE=image/jpeg:https://podlasieslowfest.pl/wp-content/uploads/2025/05/motanki2.jpg
ORGANIZER;CN="Stowarzyszenie%20Dalapenia":MAILTO:kontakt@dalapenia.pl
END:VEVENT
BEGIN:VEVENT
DTSTART;TZID=Europe/Warsaw:20250729T143000
DTEND;TZID=Europe/Warsaw:20250729T153000
DTSTAMP:20260425T143324
CREATED:20250511T162933Z
LAST-MODIFIED:20250722T171041Z
UID:5141-1753799400-1753803000@podlasieslowfest.pl
SUMMARY:Historie wydłubane. Śladami ilustracji książkowej.
DESCRIPTION:[vc_row][vc_column width=”1/2″][vc_single_image image=”5136″ img_size=”full”][vc_column_text]Bilety w cenie 20 zł do nabycia w kasie przed wydarzeniem lub online poniżej:[/vc_column_text][vc_single_image image=”2035″ onclick=”custom_link” img_link_target=”_blank” link=”https://ekobilet.pl/e/historie-wydlubane-sladami-ilustracji-ksiazkowej-595167?evt=595167″][/vc_column][vc_column width=”1/2″][vc_column_text]Historie wydłubane. Śladami ilustracji książkowej. \nOprowadzanie specjalne po Muzeum Sztuki Drukarskiej i Papiernictwa w Supraślu\, \nWszyscy kochamy pięknie ilustrowane książki. A powiedzieć\, że ilustracja jest tak stara jak książka\, to mało! Obraz jest wszak dużo starszy niż pismo. Manuskrypty były wspaniale zdobione ręcznie przez artystów iluminatorów\, podobnie jak pierwsze europejskie książki drukowane. Z czasem również ilustracje zaczęły być odbijane w drukarniach. W zależności od sposobu wykonania matrycy\, można było je drukować razem z tekstem lub w osobnym warsztacie. W trakcie oprowadzania zatrzymamy się na chwilę przy różnych technikach wykonywania ilustracji (drzeworyt\, miedzioryt\, litografia). Obejrzymy prasy drukarskie i narzędzia wykorzystywane przy poszczególnych technikach\, a także same matryce i odbitki. \nOprowadzanie specjalne po Muzeum Sztuki Drukarskiej i Papiernictwa w Supraślu będzie ciekawym urozmaiceniem dla miłośników muzeum\, a dla tych\, którzy jeszcze muzeum nie znają\, okazją do rozbudzenia fascynacji sztuką drukarską.   [/vc_column_text][/vc_column][/vc_row]
URL:https://podlasieslowfest.pl/event/historie-wydlubane-sladami-ilustracji-ksiazkowej-iii/
LOCATION:Muzeum Sztuki Drukarskiej i Papiernictwa\, Supraśl\, Podlaskie\, Polska
CATEGORIES:Warsztaty
ATTACH;FMTTYPE=image/jpeg:https://podlasieslowfest.pl/wp-content/uploads/2025/05/oprowadzanie-druk2.jpg
ORGANIZER;CN="Stowarzyszenie%20Dalapenia":MAILTO:kontakt@dalapenia.pl
END:VEVENT
BEGIN:VEVENT
DTSTART;TZID=Europe/Warsaw:20250728T143000
DTEND;TZID=Europe/Warsaw:20250728T180000
DTSTAMP:20260425T143324
CREATED:20250511T164357Z
LAST-MODIFIED:20250722T170934Z
UID:5151-1753713000-1753725600@podlasieslowfest.pl
SUMMARY:Rysowanie na polanie.
DESCRIPTION:[vc_row][vc_column width=”1/2″][vc_single_image image=”5152″ img_size=”full”][vc_column_text]Bilety w cenie 30 zł do nabycia w kasie przed wydarzeniem lub online poniżej:[/vc_column_text][vc_single_image image=”2035″ onclick=”custom_link” img_link_target=”_blank” link=”https://ekobilet.pl/e/rysowanie-na-polanie-595154?evt=595154″][/vc_column][vc_column width=”1/2″][vc_column_text]Rysowanie na polanie. \nProwadzenie: Ewa Jurzysta \nZbiórka przy Domu Ludowym w Supraślu \n„Rysowanie na polanie\, czyli zatrzymaj się – zaobserwuj – naszkicuj” \nRysowanie to najbardziej naturalna forma zatrzymywania chwili\, którą chcemy zachować w pamięci. Technika ta znana jest ludzkości od kilkudziesięciu tysięcy lat. Rysunek czy szkic to przeniesiony na papier obraz/moment\, który robi na nas wrażenie i jest wart uwiecznienia. Niech to właśnie szkic stanie się podczas warsztatów w stylu slow sposobem na uchwycenie ulotnych obrazów i zastąpi chociaż część z setek zdjęć pstrykanych na co dzień telefonem. Uczestnicy zajęć mogą liczyć na wstęp teoretyczny oraz instruktaż\, jak zabrać się do rysowania. A potem do dzieła! Nie trzeba mieć doświadczenia\, żeby zacząć. Przy dobrej pogodzie rysujemy pod gołym niebem\, żeby lepiej poczuć supraski klimat.  \nWszystkie przybory zapewnia organizator. Zajęcia w plenerze; w razie niekorzystnych warunków atmosferycznych – w budynku.[/vc_column_text][/vc_column][/vc_row]
URL:https://podlasieslowfest.pl/event/rysowanie-na-polanie/
LOCATION:Dom Ludowy w Supraślu\, ul. Piłsudskiego 11\, Supraśl\, Podlaskie
CATEGORIES:Warsztaty
ATTACH;FMTTYPE=image/jpeg:https://podlasieslowfest.pl/wp-content/uploads/2025/05/rysowanie-na-polanie2.jpg
ORGANIZER;CN="Stowarzyszenie%20Dalapenia":MAILTO:kontakt@dalapenia.pl
END:VEVENT
BEGIN:VEVENT
DTSTART;TZID=Europe/Warsaw:20250725T143000
DTEND;TZID=Europe/Warsaw:20250725T153000
DTSTAMP:20260425T143324
CREATED:20250511T162801Z
LAST-MODIFIED:20250722T170620Z
UID:5139-1753453800-1753457400@podlasieslowfest.pl
SUMMARY:Historie wydłubane. Śladami ilustracji książkowej.
DESCRIPTION:[vc_row][vc_column width=”1/2″][vc_single_image image=”5136″ img_size=”full”][vc_column_text]Bilety w cenie 20 zł do nabycia w kasie przed wydarzeniem lub online poniżej:[/vc_column_text][vc_single_image image=”2035″ onclick=”custom_link” img_link_target=”_blank” link=”https://ekobilet.pl/e/historie-wydlubane-sladami-ilustracji-ksiazkowej-594872?evt=594872″][/vc_column][vc_column width=”1/2″][vc_column_text]Historie wydłubane. Śladami ilustracji książkowej. \nOprowadzanie specjalne po Muzeum Sztuki Drukarskiej i Papiernictwa w Supraślu\, \nWszyscy kochamy pięknie ilustrowane książki. A powiedzieć\, że ilustracja jest tak stara jak książka\, to mało! Obraz jest wszak dużo starszy niż pismo. Manuskrypty były wspaniale zdobione ręcznie przez artystów iluminatorów\, podobnie jak pierwsze europejskie książki drukowane. Z czasem również ilustracje zaczęły być odbijane w drukarniach. W zależności od sposobu wykonania matrycy\, można było je drukować razem z tekstem lub w osobnym warsztacie. W trakcie oprowadzania zatrzymamy się na chwilę przy różnych technikach wykonywania ilustracji (drzeworyt\, miedzioryt\, litografia). Obejrzymy prasy drukarskie i narzędzia wykorzystywane przy poszczególnych technikach\, a także same matryce i odbitki. \nOprowadzanie specjalne po Muzeum Sztuki Drukarskiej i Papiernictwa w Supraślu będzie ciekawym urozmaiceniem dla miłośników muzeum\, a dla tych\, którzy jeszcze muzeum nie znają\, okazją do rozbudzenia fascynacji sztuką drukarską.   [/vc_column_text][/vc_column][/vc_row]
URL:https://podlasieslowfest.pl/event/historie-wydlubane-sladami-ilustracji-ksiazkowej-ii/
LOCATION:Muzeum Sztuki Drukarskiej i Papiernictwa\, Supraśl\, Podlaskie\, Polska
CATEGORIES:Warsztaty
ATTACH;FMTTYPE=image/jpeg:https://podlasieslowfest.pl/wp-content/uploads/2025/05/oprowadzanie-druk2.jpg
ORGANIZER;CN="Stowarzyszenie%20Dalapenia":MAILTO:kontakt@dalapenia.pl
END:VEVENT
BEGIN:VEVENT
DTSTART;TZID=Europe/Warsaw:20250724T180000
DTEND;TZID=Europe/Warsaw:20250724T193000
DTSTAMP:20260425T143324
CREATED:20250511T163559Z
LAST-MODIFIED:20250511T165459Z
UID:5145-1753380000-1753385400@podlasieslowfest.pl
SUMMARY:Tańce w kręgu.
DESCRIPTION:[vc_row][vc_column width=”1/2″][vc_single_image image=”5146″ img_size=”full”][vc_column_text]Udział bezpłatny.[/vc_column_text][/vc_column][vc_column width=”1/2″][vc_column_text]Tańce w kręgu \nProwadzenie: Marta Żukowska \nBulwary im. Wołkowa (łąka) \nTańce w kręgu – to tańce  ludowe\, etniczne\,  tańczone w korowodzie\, kręgu. Znajdują się wśród nich tańce z wielu zakątków świata. Przeznaczone są dla wszystkich\, bez względu na umiejętności i sprawność fizyczną. Są proste i składają się z sekwencji kroków powtarzających się przez cały taniec. Różnorodność proponowanych tańców i ich melodii umożliwia niewerbalną ekspresję uczuć i doświadczanie energii własnego ciała oraz energii innych tańczących. Bez znaczenia jest wiek\, partner czy doświadczenie taneczne\, każdy może włączyć się do kręgu. \nSiłą tańców w kręgu jest poczucie wspólnoty i świadome skupienie na energii grupy\, energii powstającej podczas wspólnego poruszania się w jednym rytmie. W spotkaniach tańczących w kręgu nie chodzi o dążenie do perfekcji\, o opanowanie kroków i figur\, ale o to by być razem\, ze sobą i z innymi\, by pozwolić sobie na spontaniczność. Tańce  w kręgu to także indywidualne zaangażowanie każdego tańczącego\, to medytacja w ruchu inspirująca zarówno ciało\, umysł jak i duszę\, budząca uśpioną w nich moc i ekspresję\, wzmacniająca kontakt z samym sobą\, z innymi\, ze światem zewnętrznym. \nZajęcia prowadzi Marta Żukowska od lat współpracująca ze SlowFest – Instruktor Tańca Nowoczesnego\, Instruktor Tańców w Kręgu\,  absolwentka Kursu Terapii Tańcem i Ruchem. \n„O tańcu nie da się pisać\,(…) taniec trzeba tańczyć” /P.Coelho/ \nUWAGA: Zajęcia w plenerze\, na trawie. Zastrzegamy sobie prawo do odwołania lub zmiany miejsca spotkania w razie niekorzystnych warunków atmosferycznych.[/vc_column_text][/vc_column][/vc_row]
URL:https://podlasieslowfest.pl/event/tance-w-kregu/
LOCATION:Bulwary im. Wołkowa
CATEGORIES:Warsztaty
ATTACH;FMTTYPE=image/jpeg:https://podlasieslowfest.pl/wp-content/uploads/2025/05/tancewkregu2.jpg
ORGANIZER;CN="Stowarzyszenie%20Dalapenia":MAILTO:kontakt@dalapenia.pl
END:VEVENT
BEGIN:VEVENT
DTSTART;TZID=Europe/Warsaw:20250723T100000
DTEND;TZID=Europe/Warsaw:20250723T130000
DTSTAMP:20260425T143324
CREATED:20250512T212709Z
LAST-MODIFIED:20250530T120706Z
UID:5168-1753264800-1753275600@podlasieslowfest.pl
SUMMARY:Dzikie jadalne.
DESCRIPTION:[vc_row][vc_column width=”1/2″][vc_single_image image=”5170″ img_size=”full”][vc_column_text]Bilety 30 zł[/vc_column_text][vc_single_image image=”2035″ onclick=”custom_link” img_link_target=”_blank” link=”https://ekobilet.pl/e/dzikie-jadalne-594867?evt=594867″][/vc_column][vc_column width=”1/2″][vc_column_text]Dzikie jadalne \nProwadzenie: Beata Babińska \nWspólne wyjście na spacer do lasu\, na okoliczne łąki\, nad rzekę\, by poznać bogactwo dzikich roślin jadalnych\, które oferuje przyroda w okolicy Supraśla. W trakcie spaceru poznamy różne formy „dzikosztuki” rękodzielniczej np. broszki\, naszyjniki\, bransoletki\, a zakończymy go ogniskiem z degustacją i wykonaniem prostych potraw z użyciem zebranych roślin (menu uzależnione od tego\, co da nam natura podczas spaceru). \nZalecamy ubranie dostosowane do warunków pogodowych i obuwie do chodzenia po łące. \nWarsztaty wyłącznie dla osób pełnoletnich. \nZbiórka przed Domem Ludowym[/vc_column_text][/vc_column][/vc_row]
URL:https://podlasieslowfest.pl/event/dzikie-jadalne/
LOCATION:Dom Ludowy w Supraślu\, ul. Piłsudskiego 11\, Supraśl\, Podlaskie
CATEGORIES:Warsztaty
ATTACH;FMTTYPE=image/jpeg:https://podlasieslowfest.pl/wp-content/uploads/2025/05/laka-suprasl-scaled.jpg
ORGANIZER;CN="Stowarzyszenie%20Dalapenia":MAILTO:kontakt@dalapenia.pl
END:VEVENT
BEGIN:VEVENT
DTSTART;TZID=Europe/Warsaw:20250722T143000
DTEND;TZID=Europe/Warsaw:20250722T153000
DTSTAMP:20260425T143324
CREATED:20250511T162229Z
LAST-MODIFIED:20250530T120606Z
UID:5135-1753194600-1753198200@podlasieslowfest.pl
SUMMARY:Historie wydłubane. Śladami ilustracji książkowej
DESCRIPTION:[vc_row][vc_column width=”1/2″][vc_single_image image=”5136″ img_size=”full”][vc_column_text]Bilet: 20 zł[/vc_column_text][vc_single_image image=”2035″ onclick=”custom_link” img_link_target=”_blank” link=”https://ekobilet.pl/e/historie-wydlubane-sladami-ilustracji-ksiazkowej-595184?evt=595184″][/vc_column][vc_column width=”1/2″][vc_column_text]Historie wydłubane. Śladami ilustracji książkowej. \nOprowadzanie specjalne po Muzeum Sztuki Drukarskiej i Papiernictwa w Supraślu\, \nWszyscy kochamy pięknie ilustrowane książki. A powiedzieć\, że ilustracja jest tak stara jak książka\, to mało! Obraz jest wszak dużo starszy niż pismo. Manuskrypty były wspaniale zdobione ręcznie przez artystów iluminatorów\, podobnie jak pierwsze europejskie książki drukowane. Z czasem również ilustracje zaczęły być odbijane w drukarniach. W zależności od sposobu wykonania matrycy\, można było je drukować razem z tekstem lub w osobnym warsztacie. W trakcie oprowadzania zatrzymamy się na chwilę przy różnych technikach wykonywania ilustracji (drzeworyt\, miedzioryt\, litografia). Obejrzymy prasy drukarskie i narzędzia wykorzystywane przy poszczególnych technikach\, a także same matryce i odbitki. \nOprowadzanie specjalne po Muzeum Sztuki Drukarskiej i Papiernictwa w Supraślu będzie ciekawym urozmaiceniem dla miłośników muzeum\, a dla tych\, którzy jeszcze muzeum nie znają\, okazją do rozbudzenia fascynacji sztuką drukarską.   [/vc_column_text][/vc_column][/vc_row]
URL:https://podlasieslowfest.pl/event/historie-wydlubane-sladami-ilustracji-ksiazkowej/
LOCATION:Muzeum Sztuki Drukarskiej i Papiernictwa\, Supraśl\, Podlaskie\, Polska
CATEGORIES:Film,Warsztaty
ATTACH;FMTTYPE=image/jpeg:https://podlasieslowfest.pl/wp-content/uploads/2025/05/oprowadzanie-druk2.jpg
ORGANIZER;CN="Stowarzyszenie%20Dalapenia":MAILTO:kontakt@dalapenia.pl
END:VEVENT
END:VCALENDAR