BEGIN:VCALENDAR
VERSION:2.0
PRODID:-//Podlasie SLOWFEST by ŁOMŻA - ECPv5.13.0//NONSGML v1.0//EN
CALSCALE:GREGORIAN
METHOD:PUBLISH
X-WR-CALNAME:Podlasie SLOWFEST by ŁOMŻA
X-ORIGINAL-URL:https://podlasieslowfest.pl
X-WR-CALDESC:Events for Podlasie SLOWFEST by ŁOMŻA
REFRESH-INTERVAL;VALUE=DURATION:PT1H
X-Robots-Tag:noindex
X-PUBLISHED-TTL:PT1H
BEGIN:VTIMEZONE
TZID:Europe/Warsaw
BEGIN:DAYLIGHT
TZOFFSETFROM:+0100
TZOFFSETTO:+0200
TZNAME:CEST
DTSTART:20250330T010000
END:DAYLIGHT
BEGIN:STANDARD
TZOFFSETFROM:+0200
TZOFFSETTO:+0100
TZNAME:CET
DTSTART:20251026T010000
END:STANDARD
END:VTIMEZONE
BEGIN:VEVENT
DTSTART;TZID=Europe/Warsaw:20250728T143000
DTEND;TZID=Europe/Warsaw:20250728T180000
DTSTAMP:20260425T232625
CREATED:20250511T164357Z
LAST-MODIFIED:20250722T170934Z
UID:5151-1753713000-1753725600@podlasieslowfest.pl
SUMMARY:Rysowanie na polanie.
DESCRIPTION:[vc_row][vc_column width=”1/2″][vc_single_image image=”5152″ img_size=”full”][vc_column_text]Bilety w cenie 30 zł do nabycia w kasie przed wydarzeniem lub online poniżej:[/vc_column_text][vc_single_image image=”2035″ onclick=”custom_link” img_link_target=”_blank” link=”https://ekobilet.pl/e/rysowanie-na-polanie-595154?evt=595154″][/vc_column][vc_column width=”1/2″][vc_column_text]Rysowanie na polanie. \nProwadzenie: Ewa Jurzysta \nZbiórka przy Domu Ludowym w Supraślu \n„Rysowanie na polanie\, czyli zatrzymaj się – zaobserwuj – naszkicuj” \nRysowanie to najbardziej naturalna forma zatrzymywania chwili\, którą chcemy zachować w pamięci. Technika ta znana jest ludzkości od kilkudziesięciu tysięcy lat. Rysunek czy szkic to przeniesiony na papier obraz/moment\, który robi na nas wrażenie i jest wart uwiecznienia. Niech to właśnie szkic stanie się podczas warsztatów w stylu slow sposobem na uchwycenie ulotnych obrazów i zastąpi chociaż część z setek zdjęć pstrykanych na co dzień telefonem. Uczestnicy zajęć mogą liczyć na wstęp teoretyczny oraz instruktaż\, jak zabrać się do rysowania. A potem do dzieła! Nie trzeba mieć doświadczenia\, żeby zacząć. Przy dobrej pogodzie rysujemy pod gołym niebem\, żeby lepiej poczuć supraski klimat.  \nWszystkie przybory zapewnia organizator. Zajęcia w plenerze; w razie niekorzystnych warunków atmosferycznych – w budynku.[/vc_column_text][/vc_column][/vc_row]
URL:https://podlasieslowfest.pl/event/rysowanie-na-polanie/
LOCATION:Dom Ludowy w Supraślu\, ul. Piłsudskiego 11\, Supraśl\, Podlaskie
CATEGORIES:Warsztaty
ATTACH;FMTTYPE=image/jpeg:https://podlasieslowfest.pl/wp-content/uploads/2025/05/rysowanie-na-polanie2.jpg
ORGANIZER;CN="Stowarzyszenie%20Dalapenia":MAILTO:kontakt@dalapenia.pl
END:VEVENT
END:VCALENDAR