BEGIN:VCALENDAR
VERSION:2.0
PRODID:-//Podlasie SLOWFEST by ŁOMŻA - ECPv5.13.0//NONSGML v1.0//EN
CALSCALE:GREGORIAN
METHOD:PUBLISH
X-WR-CALNAME:Podlasie SLOWFEST by ŁOMŻA
X-ORIGINAL-URL:https://podlasieslowfest.pl
X-WR-CALDESC:Events for Podlasie SLOWFEST by ŁOMŻA
REFRESH-INTERVAL;VALUE=DURATION:PT1H
X-Robots-Tag:noindex
X-PUBLISHED-TTL:PT1H
BEGIN:VTIMEZONE
TZID:Europe/Warsaw
BEGIN:DAYLIGHT
TZOFFSETFROM:+0100
TZOFFSETTO:+0200
TZNAME:CEST
DTSTART:20250330T010000
END:DAYLIGHT
BEGIN:STANDARD
TZOFFSETFROM:+0200
TZOFFSETTO:+0100
TZNAME:CET
DTSTART:20251026T010000
END:STANDARD
END:VTIMEZONE
BEGIN:VEVENT
DTSTART;TZID=Europe/Warsaw:20250801T200000
DTEND;TZID=Europe/Warsaw:20250801T213000
DTSTAMP:20260425T230222
CREATED:20250504T151702Z
LAST-MODIFIED:20250731T134208Z
UID:5106-1754078400-1754083800@podlasieslowfest.pl
SUMMARY:Koncert filmowy Portier z hotelu Atlantic\, reż. Friedrich Murnau - muzyka XYLOS (PL/LT)
DESCRIPTION:[vc_row][vc_column width=”1/2″][vc_single_image image=”5108″ img_size=”full”][vc_column_text]Bilety w cenie 50 zł do nabycia w kasie przed wydarzeniem lub online poniżej:[/vc_column_text][vc_single_image image=”2035″ onclick=”custom_link” img_link_target=”_blank” link=”https://ekobilet.pl/e/portier-z-hotelu-atlantic-koncert-filmowy-595176?evt=595176″][/vc_column][vc_column width=”1/2″][vc_column_text]Koncert filmowy Portier z hotelu Atlantic\, reż. Friedrich Murnau  \nGatunek filmowy: Dramat niemy\nCzas trwania: 75 minut \nXYLOS (PL/LT) \nPiotr Domagała – gitara akustyczna\, elektryczna\, elektronika \nDarius Klišys – birbynė\, elektronika \nMarek Toporowski – klawesyn \nLena Domagała – reżyseria muzyki \nZapraszamy na wyjątkowy koncert filmowy\, pokaz arcydzieła niemieckiego ekspresjonizmu – niemy film F.W. Murnaua\, który przeszedł do historii dzięki rewolucyjnej narracji i sugestywnej pracy kamery – z muzyką zespołu XYLOS. Opowieść o portierze luksusowego hotelu\, którego degradacja społeczna prowadzi\ndo głębokiego upokorzenia\, porusza do dziś. Emil Jannings w roli głównej tworzy przejmujący portret człowieka zmagającego się\nz utratą godności. \nPokaz z muzyką na żywo ożywia to ponadczasowe dzieło i pozwala doświadczyć kina w jego najczystszej\, niemal sakralnej formie. Muzyka do filmu została przygotowana na specjalne zamówienie Timeless Film Festival Warsaw 2024 z okazji 100-lecia powstania filmu. Muzycy wykorzystują oryginale akustyczne instrumentarium – litewską birbynė\, klawesyn oraz gitary\, łącząc je ze współczesną elektroniką muzyczną.[/vc_column_text][vc_column_text]https://youtu.be/51Xy-U8ah74[/vc_column_text][vc_column_text]https://youtu.be/FmXfj-53v4g[/vc_column_text][/vc_column][/vc_row]
URL:https://podlasieslowfest.pl/event/portier_koncert/
LOCATION:Akademia Supraska
CATEGORIES:Film,Koncert,Muzyka
ATTACH;FMTTYPE=image/jpeg:https://podlasieslowfest.pl/wp-content/uploads/2025/05/portier-z-hotelu-atlantic-2.jpg
ORGANIZER;CN="Stowarzyszenie%20Dalapenia":MAILTO:kontakt@dalapenia.pl
END:VEVENT
END:VCALENDAR