BEGIN:VCALENDAR
VERSION:2.0
PRODID:-//Podlasie SLOWFEST by ŁOMŻA - ECPv5.13.0//NONSGML v1.0//EN
CALSCALE:GREGORIAN
METHOD:PUBLISH
X-WR-CALNAME:Podlasie SLOWFEST by ŁOMŻA
X-ORIGINAL-URL:https://podlasieslowfest.pl
X-WR-CALDESC:Events for Podlasie SLOWFEST by ŁOMŻA
REFRESH-INTERVAL;VALUE=DURATION:PT1H
X-Robots-Tag:noindex
X-PUBLISHED-TTL:PT1H
BEGIN:VTIMEZONE
TZID:Europe/Warsaw
BEGIN:DAYLIGHT
TZOFFSETFROM:+0100
TZOFFSETTO:+0200
TZNAME:CEST
DTSTART:20250330T010000
END:DAYLIGHT
BEGIN:STANDARD
TZOFFSETFROM:+0200
TZOFFSETTO:+0100
TZNAME:CET
DTSTART:20251026T010000
END:STANDARD
END:VTIMEZONE
BEGIN:VEVENT
DTSTART;TZID=Europe/Warsaw:20250725T200000
DTEND;TZID=Europe/Warsaw:20250725T220000
DTSTAMP:20260426T003744
CREATED:20250504T112949Z
LAST-MODIFIED:20250722T170653Z
UID:5053-1753473600-1753480800@podlasieslowfest.pl
SUMMARY:Koncert Piotr Domagała / Bernard Maseli
DESCRIPTION:[vc_row][vc_column width=”1/2″][vc_single_image image=”5054″ img_size=”full”][vc_column_text]Bilety w cenie 50 zł do nabycia w kasie przed wydarzeniem lub online poniżej:[/vc_column_text][vc_single_image image=”2035″ onclick=”custom_link” img_link_target=”_blank” link=”https://ekobilet.pl/e/piotr-domagala-bernard-maseli-koncert-594878?evt=594878″][/vc_column][vc_column width=”1/2″][vc_column_text]Piotr Domagała / Bernard Maseli \nPiotr Domagała – gitara akustyczna\, elektryczna\nBernard Maseli – wibrafon KAT \nDuet Piotr Domagała / Bernard Maseli to spotkanie dwóch wybitnych osobowości polskiej sceny jazzowej\, które łączy pasja do eksperymentowania z brzmieniem i formą. Ich koncerty to muzyczna podróż\, w której tradycja spotyka się z nowoczesnością\, a improwizacja z precyzyjną kompozycją. Piotr Domagała\, ceniony gitarzysta i kompozytor\, znany jest z łączenia jazzu z elementami muzyki klasycznej i etnicznej. Jego gra charakteryzuje się subtelnością i głębią emocjonalną. Bernard Maseli\, wirtuoz wibrafonu i marimby\, współpracował z wieloma znakomitymi artystami światowego formatu\, m.in. był członkiem międzynarodowego kwartetu Deana Browna. Jego gra to połączenie technicznej perfekcji z niezwykłą ekspresją. \nWspólnie tworzą muzykę\, która przekracza granice gatunków\, łącząc jazz\, muzykę świata i elementy klasyczne. Na festiwalu Podlasie SlowFest duet zaprezentuje program\, który zabierze słuchaczy w podróż przez różnorodne krajobrazy dźwiękowe\, od delikatnych ballad po energetyczne improwizacje. Ich występ to doskonała okazja\, by doświadczyć\, jak muzyka może łączyć różne światy i emocje. \n“Znakomity koncert\, dwóch wirtuozów swoich instrumentów. Można było „pofrunąć” \n„Domagała i Maseli to duet idealny. Ich muzyka przenosi w inny wymiar.”[/vc_column_text][vc_column_text]https://youtu.be/BZAkoG6S9Ew[/vc_column_text][/vc_column][/vc_row]
URL:https://podlasieslowfest.pl/event/domagala_maseli/
LOCATION:Dom Ludowy w Supraślu\, ul. Piłsudskiego 11\, Supraśl\, Podlaskie
CATEGORIES:Koncert
ATTACH;FMTTYPE=image/jpeg:https://podlasieslowfest.pl/wp-content/uploads/2025/05/Piotr-Domagala-Bernard-Maseli.jpg
ORGANIZER;CN="Stowarzyszenie%20Dalapenia":MAILTO:kontakt@dalapenia.pl
END:VEVENT
END:VCALENDAR