BEGIN:VCALENDAR
VERSION:2.0
PRODID:-//Podlasie SLOWFEST by ŁOMŻA - ECPv5.13.0//NONSGML v1.0//EN
CALSCALE:GREGORIAN
METHOD:PUBLISH
X-WR-CALNAME:Podlasie SLOWFEST by ŁOMŻA
X-ORIGINAL-URL:https://podlasieslowfest.pl
X-WR-CALDESC:Events for Podlasie SLOWFEST by ŁOMŻA
REFRESH-INTERVAL;VALUE=DURATION:PT1H
X-Robots-Tag:noindex
X-PUBLISHED-TTL:PT1H
BEGIN:VTIMEZONE
TZID:Europe/Warsaw
BEGIN:DAYLIGHT
TZOFFSETFROM:+0100
TZOFFSETTO:+0200
TZNAME:CEST
DTSTART:20250330T010000
END:DAYLIGHT
BEGIN:STANDARD
TZOFFSETFROM:+0200
TZOFFSETTO:+0100
TZNAME:CET
DTSTART:20251026T010000
END:STANDARD
END:VTIMEZONE
BEGIN:VEVENT
DTSTART;TZID=Europe/Warsaw:20250729T193000
DTEND;TZID=Europe/Warsaw:20250729T212000
DTSTAMP:20260425T230335
CREATED:20250504T142824Z
LAST-MODIFIED:20250722T171126Z
UID:5092-1753817400-1753824000@podlasieslowfest.pl
SUMMARY:Film Zła nie ma\, reż. Ryûsuke Hamaguchi
DESCRIPTION:[vc_row][vc_column width=”1/2″][vc_single_image image=”5093″ img_size=”full”][vc_column_text]Bilety w cenie 15 zł do nabycia w kasie przed wydarzeniem lub online poniżej:[/vc_column_text][vc_single_image image=”2035″ onclick=”custom_link” img_link_target=”_blank” link=”https://ekobilet.pl/e/zla-nie-ma-film-595168?evt=595168″][/vc_column][vc_column width=”1/2″][vc_column_text]Film Zła nie ma\, reż. Ryûsuke Hamaguchi \nJaponia\, 2023 \nGatunek filmowy: Dramat/eko-thriller\nCzas trwania: 106 minut \nNagrody:\n• Srebrny Niedźwiedź – Festiwal Filmowy w Berlinie 2023\n• Nagroda FIPRESCI – Festiwal Filmowy w Berlinie 2023\n• Najlepszy film – Asian Film Awards 2023 \nW idyllicznej górskiej wiosce Takumi i jego córka prowadzą proste\, harmonijne życie blisko natury. Kiedy pojawia się plan budowy turystycznego kempingu\, ich świat zostaje zachwiany. Wysłani z Tokio przedstawiciele firmy spotykają się z nieufnością mieszkańców\, a pod powierzchnią kryje się narastający konflikt. Hamaguchi\, znany z Drive My Car\, tworzy kontemplacyjny\, lecz niepokojący film\, który balansuje między realizmem a metaforą. Zła nie ma to przypowieść o ekologii\, odpowiedzialności i duchowej pustce współczesności\, w której dźwięk przyrody mówi więcej niż słowa.[/vc_column_text][vc_column_text]https://youtu.be/K8kBeR4oG-c?si=oLeLHxtG54qR434x[/vc_column_text][/vc_column][/vc_row]
URL:https://podlasieslowfest.pl/event/zla_nie_ma/
LOCATION:Dom Ludowy w Supraślu\, ul. Piłsudskiego 11\, Supraśl\, Podlaskie
CATEGORIES:Film
ATTACH;FMTTYPE=image/jpeg:https://podlasieslowfest.pl/wp-content/uploads/2025/05/zla_nie_ma_1.jpg
ORGANIZER;CN="Stowarzyszenie%20Dalapenia":MAILTO:kontakt@dalapenia.pl
END:VEVENT
BEGIN:VEVENT
DTSTART;TZID=Europe/Warsaw:20250729T213000
DTEND;TZID=Europe/Warsaw:20250729T230000
DTSTAMP:20260425T230335
CREATED:20250511T162058Z
LAST-MODIFIED:20250722T171159Z
UID:5133-1753824600-1753830000@podlasieslowfest.pl
SUMMARY:Niebo Nocą - nocne obserwacje nieba
DESCRIPTION:[vc_row][vc_column width=”1/2″][vc_single_image image=”5128″ img_size=”full”][vc_column_text]Bilety w cenie 20 zł do nabycia w kasie przed wydarzeniem lub online poniżej:[/vc_column_text][vc_single_image image=”2035″ onclick=”custom_link” img_link_target=”_blank” link=”https://ekobilet.pl/e/niebo-noca-595169?evt=595169″][/vc_column][vc_column width=”1/2″][vc_column_text]Niebo nocą \nProwadzenie: Łukasz Lubicz–Łapiński \nZbiórka przy Domu Ludowym w Supraślu. \nWspólnie z Centrum Kultury i Rekreacji w Supraślu zapraszamy serdecznie na obserwację nocnego nieba!\nPodczas niezwykłego\, wieczornego spaceru w towarzystwie doświadczonego przewodnika będzie można odkrywać tajemnice nocnego nieba. Wspólnie przyjrzymy się fascynującym konstelacjom\, rozpoznawalnym gwiazdom\, a nawet planetom\, które rozświetlają firmament swym cudownym blaskiem.\nSupraśl\, otoczony naturą i oddalony od miejskiego zgiełku\, oferuje doskonałe warunki do obserwacji nieba.\nMinimalne zanieczyszczenie świetlne sprawia\, że gwiazdy są tu bardziej wyraziste\, a nieboskłon – zachwycająco głęboki i tajemniczy. To doskonała okazja\, by choć na chwilę zatrzymać się i spojrzeć w górę\, śladami dawnych i współczesnych miłośników kosmosu – astronomów i astrologów.\nPozwól sobie na chwilę zachwytu i daj się poprowadzić ku gwiazdom. \n*UWAGA: Limit miejsc. Zastrzegamy sobie prawo do odwołania wydarzenia ze względu na złe warunki\natmosferyczne.[/vc_column_text][/vc_column][/vc_row]
URL:https://podlasieslowfest.pl/event/niebo-noca-nocne-obserwacje-nieba-ii/
LOCATION:Dom Ludowy w Supraślu\, ul. Piłsudskiego 11\, Supraśl\, Podlaskie
CATEGORIES:Film
ATTACH;FMTTYPE=image/jpeg:https://podlasieslowfest.pl/wp-content/uploads/2025/05/niebonoca2.jpg
ORGANIZER;CN="Stowarzyszenie%20Dalapenia":MAILTO:kontakt@dalapenia.pl
END:VEVENT
END:VCALENDAR