BEGIN:VCALENDAR
VERSION:2.0
PRODID:-//Podlasie SLOWFEST by ŁOMŻA - ECPv5.13.0//NONSGML v1.0//EN
CALSCALE:GREGORIAN
METHOD:PUBLISH
X-WR-CALNAME:Podlasie SLOWFEST by ŁOMŻA
X-ORIGINAL-URL:https://podlasieslowfest.pl
X-WR-CALDESC:Events for Podlasie SLOWFEST by ŁOMŻA
REFRESH-INTERVAL;VALUE=DURATION:PT1H
X-Robots-Tag:noindex
X-PUBLISHED-TTL:PT1H
BEGIN:VTIMEZONE
TZID:Europe/Warsaw
BEGIN:DAYLIGHT
TZOFFSETFROM:+0100
TZOFFSETTO:+0200
TZNAME:CEST
DTSTART:20250330T010000
END:DAYLIGHT
BEGIN:STANDARD
TZOFFSETFROM:+0200
TZOFFSETTO:+0100
TZNAME:CET
DTSTART:20251026T010000
END:STANDARD
END:VTIMEZONE
BEGIN:VEVENT
DTSTART;TZID=Europe/Warsaw:20250802T103000
DTEND;TZID=Europe/Warsaw:20250802T200000
DTSTAMP:20260424T140619
CREATED:20250723T151408Z
LAST-MODIFIED:20250723T151952Z
UID:5461-1754130600-1754164800@podlasieslowfest.pl
SUMMARY:Bookcrossing
DESCRIPTION:[vc_row][vc_column width=”1/2″][vc_single_image image=”5459″ img_size=”full”][vc_column_text]wstęp wolny[/vc_column_text][/vc_column][vc_column width=”1/2″][vc_column_text]Strefa Wolnych Książek na Podlasie SlowFest by Łomża\nSupraśl\, scena letnia z tyłu Domu Ludowego | codziennie\, ok. 10.00–20.00 \nW zacisznym zakątku za Domem Ludowym\, pod osłoną drzew\, czeka na Państwa nasza strefa bookcrossingu. To miejsce stworzone z myślą o tych\, którzy wierzą\, że literatura łączy ludzi ponad czasem i przestrzenią. \nTo tradycja\, która już na stałe wpisała się w pejzaż Podlasie SlowFest by Łomża. Cichy rytuał dzielenia się słowem. \nBookcrossing to nie tylko wymiana książek. To gest zaufania\, znak wspólnoty czytelników. Pozwalamy książkom wędrować z rąk do rąk\, z domów do plecaków\, z serc do serc. Każdy i każda może zabrać ze sobą wybraną książkę\, która czeka właśnie na Was. \nNie oczekujemy niczego w zamian.\nWierzymy\, że książki chcą być czytane – dlatego przygotowaliśmy dla Państwa starannie wybrane tytuły\, które można po prostu zabrać ze sobą. Na spacer. Na hamak. Do domu. \nNie trzeba nic przynosić – choć jeśli ktoś ma ochotę\, można zostawić książkę\, by ruszyła dalej w drogę. Najważniejsze\, by czytać – i pozwolić książkom żyć dalej\, kiedy już spełnią swoją rolę. \nJak korzystać?\n\nPrzyjdź\, rozejrzyj się\, weź książkę\, która Cię poruszy.\nZatrzymaj ją\, przeczytaj\, podaj dalej.\nMożesz zostawić książkę\, ale nie musisz.\nMożesz zostawić też kilka słów dla kolejnego czytelnika: cytat\, myśl\, znak obecności.\nSzanuj książki. Niech to miejsce będzie bezpieczną przystanią dla słowa.\n\nNiech książki wędrują. Niech słowo trwa. Niech dzielenie się czytaniem stanie się ponownie częścią letniego rytmu SlowFestu.[/vc_column_text][/vc_column][/vc_row]
URL:https://podlasieslowfest.pl/event/bookcrossing-2/
LOCATION:Dom Ludowy w Supraślu\, ul. Piłsudskiego 11\, Supraśl\, Podlaskie
CATEGORIES:Literatura
ATTACH;FMTTYPE=image/png:https://podlasieslowfest.pl/wp-content/uploads/2025/07/bookcrossing1000-x-315-px.png
ORGANIZER;CN="Stowarzyszenie%20Dalapenia":MAILTO:kontakt@dalapenia.pl
END:VEVENT
BEGIN:VEVENT
DTSTART;TZID=Europe/Warsaw:20250802T193000
DTEND;TZID=Europe/Warsaw:20250802T220000
DTSTAMP:20260424T140619
CREATED:20250504T150345Z
LAST-MODIFIED:20250802T092931Z
UID:5102-1754163000-1754172000@podlasieslowfest.pl
SUMMARY:Film Godland\, reż. Hlynur Pálmason
DESCRIPTION:[vc_row][vc_column width=”1/2″][vc_single_image image=”5103″ img_size=”full”][vc_column_text]Bilety w cenie 15 zł do nabycia w kasie przed wydarzeniem lub online poniżej:[/vc_column_text][vc_single_image image=”2035″ onclick=”custom_link” img_link_target=”_blank” link=”https://ekobilet.pl/e/godland-film-595182?evt=595182″][/vc_column][vc_column width=”1/2″][vc_column_text]Film Godland\, reż. Hlynur Pálmason \nIslandia/Dania\, 2022 \nGatunek filmowy: Dramat historyczny\nCzas trwania: 143 minuty \nNagrody:\n• Złoty Hugo – Chicago International Film Festival 2022\n• Edda Awards 2023 – Najlepszy reżyser\, Najlepsze zdjęcia \nMłody duński pastor Lucas wyrusza do dzikiego zakątka Islandii\, by objąć tam posługę duchowną. Podróż przez surowy\, bezlitosny krajobraz staje się próbą nie tylko fizyczną\, ale przede wszystkim duchową. Pomiędzy religijną misją a kolonialną wyższością narasta konflikt – z mieszkańcami\, z naturą\, z samym sobą. Film Pálmasona\, nakręcony w formacie 4:3 i z fascynującą dbałością o światło\, przypomina dziewiętnastowieczne fotografie i malarstwo romantyczne. Godland to powolne\, kontemplacyjne kino o kruchości człowieka wobec przyrody\, o pysze i pokorze\, i o duchowej samotności na końcu świata.[/vc_column_text][vc_column_text]https://youtu.be/0Hot2tpLLOc?si=kG4yScl-ltLVg4eZ \n[/vc_column_text][/vc_column][/vc_row]
URL:https://podlasieslowfest.pl/event/godland/
LOCATION:Dom Ludowy w Supraślu\, ul. Piłsudskiego 11\, Supraśl\, Podlaskie
CATEGORIES:Film
ATTACH;FMTTYPE=image/jpeg:https://podlasieslowfest.pl/wp-content/uploads/2025/05/godland.jpg
ORGANIZER;CN="Stowarzyszenie%20Dalapenia":MAILTO:kontakt@dalapenia.pl
END:VEVENT
END:VCALENDAR