BEGIN:VCALENDAR
VERSION:2.0
PRODID:-//Podlasie SLOWFEST by ŁOMŻA - ECPv5.13.0//NONSGML v1.0//EN
CALSCALE:GREGORIAN
METHOD:PUBLISH
X-WR-CALNAME:Podlasie SLOWFEST by ŁOMŻA
X-ORIGINAL-URL:https://podlasieslowfest.pl
X-WR-CALDESC:Events for Podlasie SLOWFEST by ŁOMŻA
REFRESH-INTERVAL;VALUE=DURATION:PT1H
X-Robots-Tag:noindex
X-PUBLISHED-TTL:PT1H
BEGIN:VTIMEZONE
TZID:Europe/Warsaw
BEGIN:DAYLIGHT
TZOFFSETFROM:+0100
TZOFFSETTO:+0200
TZNAME:CEST
DTSTART:20250330T010000
END:DAYLIGHT
BEGIN:STANDARD
TZOFFSETFROM:+0200
TZOFFSETTO:+0100
TZNAME:CET
DTSTART:20251026T010000
END:STANDARD
END:VTIMEZONE
BEGIN:VEVENT
DTSTART;TZID=Europe/Warsaw:20250730T103000
DTEND;TZID=Europe/Warsaw:20250730T200000
DTSTAMP:20260424T140424
CREATED:20250723T152422Z
LAST-MODIFIED:20250723T152448Z
UID:5470-1753871400-1753905600@podlasieslowfest.pl
SUMMARY:Bookcrossing
DESCRIPTION:[vc_row][vc_column width=”1/2″][vc_single_image image=”5459″ img_size=”full”][vc_column_text]wstęp wolny[/vc_column_text][/vc_column][vc_column width=”1/2″][vc_column_text]Strefa Wolnych Książek na Podlasie SlowFest by Łomża\nSupraśl\, scena letnia z tyłu Domu Ludowego | codziennie\, ok. 10.00–20.00 \nW zacisznym zakątku za Domem Ludowym\, pod osłoną drzew\, czeka na Państwa nasza strefa bookcrossingu. To miejsce stworzone z myślą o tych\, którzy wierzą\, że literatura łączy ludzi ponad czasem i przestrzenią. \nTo tradycja\, która już na stałe wpisała się w pejzaż Podlasie SlowFest by Łomża. Cichy rytuał dzielenia się słowem. \nBookcrossing to nie tylko wymiana książek. To gest zaufania\, znak wspólnoty czytelników. Pozwalamy książkom wędrować z rąk do rąk\, z domów do plecaków\, z serc do serc. Każdy i każda może zabrać ze sobą wybraną książkę\, która czeka właśnie na Was. \nNie oczekujemy niczego w zamian.\nWierzymy\, że książki chcą być czytane – dlatego przygotowaliśmy dla Państwa starannie wybrane tytuły\, które można po prostu zabrać ze sobą. Na spacer. Na hamak. Do domu. \nNie trzeba nic przynosić – choć jeśli ktoś ma ochotę\, można zostawić książkę\, by ruszyła dalej w drogę. Najważniejsze\, by czytać – i pozwolić książkom żyć dalej\, kiedy już spełnią swoją rolę. \nJak korzystać?\n\nPrzyjdź\, rozejrzyj się\, weź książkę\, która Cię poruszy.\nZatrzymaj ją\, przeczytaj\, podaj dalej.\nMożesz zostawić książkę\, ale nie musisz.\nMożesz zostawić też kilka słów dla kolejnego czytelnika: cytat\, myśl\, znak obecności.\nSzanuj książki. Niech to miejsce będzie bezpieczną przystanią dla słowa.\n\nNiech książki wędrują. Niech słowo trwa. Niech dzielenie się czytaniem stanie się ponownie częścią letniego rytmu SlowFestu.[/vc_column_text][/vc_column][/vc_row]
URL:https://podlasieslowfest.pl/event/bookcrossing-copy-3/
LOCATION:Dom Ludowy w Supraślu\, ul. Piłsudskiego 11\, Supraśl\, Podlaskie
CATEGORIES:Literatura
ATTACH;FMTTYPE=image/png:https://podlasieslowfest.pl/wp-content/uploads/2025/07/bookcrossing1000-x-315-px.png
ORGANIZER;CN="Stowarzyszenie%20Dalapenia":MAILTO:kontakt@dalapenia.pl
END:VEVENT
BEGIN:VEVENT
DTSTART;TZID=Europe/Warsaw:20250730T163000
DTEND;TZID=Europe/Warsaw:20250730T193000
DTSTAMP:20260424T140424
CREATED:20250511T165644Z
LAST-MODIFIED:20250625T211556Z
UID:5164-1753893000-1753903800@podlasieslowfest.pl
SUMMARY:Motanki - warsztaty dla kobiet
DESCRIPTION:[vc_row][vc_column width=”1/2″][vc_single_image image=”5166″ img_size=”full”][vc_column_text]Bilet: 30 zł[/vc_column_text][vc_single_image image=”2035″ onclick=”custom_link” img_link_target=”_blank” link=”https://ekobilet.pl/e/motanki-595170?evt=595170″][/vc_column][vc_column width=”1/2″][vc_column_text]Motanki \nProwadzenie: Marta Żukowska \nDom Ludowy (plener) \nWarsztaty tworzenia słowiańskich lalek Motanek to zaproszenie do wspólnego kręgu kobiet\, w którym przywołamy moc słowiańskiej tradycji i intuicji. Motanki to ręcznie tworzone lalki mocy – bez użycia igły\, bez rysowania twarzy\, z pełną uważnością i intencją. Dawniej wykonywane przez kobiety jako amulety ochronne\, symbole płodności\, zdrowia i dobrobytu\, dziś mogą stać się osobistym talizmanem\, odzwierciedlającym potrzeby twórczyni\, marzenia i kobiecą siłę. \nW atmosferze wspólnoty\, twórczego skupienia i czułości dla siebie\, stworzymy unikalne\, osobiste lalki\, łącząc się z mądrością przodkiń i własnym wnętrzem. Spotkajmy się w kręgu – stwórzmy talizmany\, które będą nas wspierać. \nWarsztaty dla kobiet 16+. \nWszystkie materiały zapewnia organizator. Spotkanie planowane jest w plenerze\, a w razie niekorzystnych warunków atmosferycznych – w budynku.[/vc_column_text][/vc_column][/vc_row]
URL:https://podlasieslowfest.pl/event/motanki/
LOCATION:Dom Ludowy w Supraślu\, ul. Piłsudskiego 11\, Supraśl\, Podlaskie
CATEGORIES:Kultura,Warsztaty,Warsztaty relaksacyjne
ATTACH;FMTTYPE=image/jpeg:https://podlasieslowfest.pl/wp-content/uploads/2025/05/motanki2.jpg
ORGANIZER;CN="Stowarzyszenie%20Dalapenia":MAILTO:kontakt@dalapenia.pl
END:VEVENT
BEGIN:VEVENT
DTSTART;TZID=Europe/Warsaw:20250730T193000
DTEND;TZID=Europe/Warsaw:20250730T205000
DTSTAMP:20260424T140424
CREATED:20250504T144028Z
LAST-MODIFIED:20250722T171236Z
UID:5096-1753903800-1753908600@podlasieslowfest.pl
SUMMARY:Film Wanda Rutkiewicz. Ostatnia wyprawa\, reż. Eliza Kubarska
DESCRIPTION:[vc_row][vc_column width=”1/2″][vc_single_image image=”5097″ img_size=”full”][vc_column_text]Bilety w cenie 15 zł do nabycia w kasie przed wydarzeniem lub online poniżej:[/vc_column_text][vc_single_image image=”2035″ onclick=”custom_link” img_link_target=”_blank” link=”https://ekobilet.pl/e/wanda-rutkiewicz-ostatnia-wyprawa-film-595171?evt=595171″][/vc_column][vc_column width=”1/2″][vc_column_text]Film Wanda Rutkiewicz. Ostatnia wyprawa\, reż. Eliza Kubarska \nPolska\, 2022 \nGatunek filmowy: Dokument\nCzas trwania: 72 minuty \nNagrody:\n• Grand Prix – 22. Krakowski Festiwal Górski 2024\n• Najlepszy film polski – 22. Krakowski Festiwal Górski 2024 \nWanda Rutkiewicz – pierwsza Europejka na Mount Evereście\, legenda światowego himalaizmu\, postać silna\, niezależna i niejednoznaczna. Film Elizy Kubarskiej to portret kobiety\, która żyła i wspinała się na własnych zasadach. Archiwalne nagrania\, rozmowy z bliskimi oraz refleksje samej reżyserki składają się na intymną opowieść o pasji\, samotności i cenie\, jaką trzeba zapłacić za wolność. Ostatnia wyprawa to nie tylko dokument biograficzny – to także medytacja o granicach ludzkich możliwości\, niezgodzie na przeciętność i duchu\, który nie zna kompromisów.[/vc_column_text][vc_column_text]https://youtu.be/3Fgv8meg7QA?si=7l4Hsr7ls3RweyFF \n[/vc_column_text][/vc_column][/vc_row]
URL:https://podlasieslowfest.pl/event/ostatnia_wyprawa/
LOCATION:Dom Ludowy w Supraślu\, ul. Piłsudskiego 11\, Supraśl\, Podlaskie
CATEGORIES:Film
ATTACH;FMTTYPE=image/jpeg:https://podlasieslowfest.pl/wp-content/uploads/2025/05/ostatnia-wyprawa-1-1800x1013-1.jpg
ORGANIZER;CN="Stowarzyszenie%20Dalapenia":MAILTO:kontakt@dalapenia.pl
END:VEVENT
END:VCALENDAR