BEGIN:VCALENDAR
VERSION:2.0
PRODID:-//Podlasie SLOWFEST by ŁOMŻA - ECPv5.13.0//NONSGML v1.0//EN
CALSCALE:GREGORIAN
METHOD:PUBLISH
X-WR-CALNAME:Podlasie SLOWFEST by ŁOMŻA
X-ORIGINAL-URL:https://podlasieslowfest.pl
X-WR-CALDESC:Events for Podlasie SLOWFEST by ŁOMŻA
REFRESH-INTERVAL;VALUE=DURATION:PT1H
X-Robots-Tag:noindex
X-PUBLISHED-TTL:PT1H
BEGIN:VTIMEZONE
TZID:Europe/Warsaw
BEGIN:DAYLIGHT
TZOFFSETFROM:+0100
TZOFFSETTO:+0200
TZNAME:CEST
DTSTART:20250330T010000
END:DAYLIGHT
BEGIN:STANDARD
TZOFFSETFROM:+0200
TZOFFSETTO:+0100
TZNAME:CET
DTSTART:20251026T010000
END:STANDARD
END:VTIMEZONE
BEGIN:VEVENT
DTSTART;TZID=Europe/Warsaw:20250727T103000
DTEND;TZID=Europe/Warsaw:20250727T200000
DTSTAMP:20260424T140554
CREATED:20250723T152734Z
LAST-MODIFIED:20250723T152828Z
UID:5476-1753612200-1753646400@podlasieslowfest.pl
SUMMARY:Bookcrossing
DESCRIPTION:[vc_row][vc_column width=”1/2″][vc_single_image image=”5459″ img_size=”full”][vc_column_text]wstęp wolny[/vc_column_text][/vc_column][vc_column width=”1/2″][vc_column_text]Strefa Wolnych Książek na Podlasie SlowFest by Łomża\nSupraśl\, scena letnia z tyłu Domu Ludowego | codziennie\, ok. 10.00–20.00 \nW zacisznym zakątku za Domem Ludowym\, pod osłoną drzew\, czeka na Państwa nasza strefa bookcrossingu. To miejsce stworzone z myślą o tych\, którzy wierzą\, że literatura łączy ludzi ponad czasem i przestrzenią. \nTo tradycja\, która już na stałe wpisała się w pejzaż Podlasie SlowFest by Łomża. Cichy rytuał dzielenia się słowem. \nBookcrossing to nie tylko wymiana książek. To gest zaufania\, znak wspólnoty czytelników. Pozwalamy książkom wędrować z rąk do rąk\, z domów do plecaków\, z serc do serc. Każdy i każda może zabrać ze sobą wybraną książkę\, która czeka właśnie na Was. \nNie oczekujemy niczego w zamian.\nWierzymy\, że książki chcą być czytane – dlatego przygotowaliśmy dla Państwa starannie wybrane tytuły\, które można po prostu zabrać ze sobą. Na spacer. Na hamak. Do domu. \nNie trzeba nic przynosić – choć jeśli ktoś ma ochotę\, można zostawić książkę\, by ruszyła dalej w drogę. Najważniejsze\, by czytać – i pozwolić książkom żyć dalej\, kiedy już spełnią swoją rolę. \nJak korzystać?\n\nPrzyjdź\, rozejrzyj się\, weź książkę\, która Cię poruszy.\nZatrzymaj ją\, przeczytaj\, podaj dalej.\nMożesz zostawić książkę\, ale nie musisz.\nMożesz zostawić też kilka słów dla kolejnego czytelnika: cytat\, myśl\, znak obecności.\nSzanuj książki. Niech to miejsce będzie bezpieczną przystanią dla słowa.\n\nNiech książki wędrują. Niech słowo trwa. Niech dzielenie się czytaniem stanie się ponownie częścią letniego rytmu SlowFestu.[/vc_column_text][/vc_column][/vc_row]
URL:https://podlasieslowfest.pl/event/bookcrossing-copy-6/
LOCATION:Dom Ludowy w Supraślu\, ul. Piłsudskiego 11\, Supraśl\, Podlaskie
CATEGORIES:Literatura
ATTACH;FMTTYPE=image/png:https://podlasieslowfest.pl/wp-content/uploads/2025/07/bookcrossing1000-x-315-px.png
ORGANIZER;CN="Stowarzyszenie%20Dalapenia":MAILTO:kontakt@dalapenia.pl
END:VEVENT
BEGIN:VEVENT
DTSTART;TZID=Europe/Warsaw:20250727T110000
DTEND;TZID=Europe/Warsaw:20250727T123000
DTSTAMP:20260424T140554
CREATED:20250518T133655Z
LAST-MODIFIED:20250722T170833Z
UID:5177-1753614000-1753619400@podlasieslowfest.pl
SUMMARY:Film Biuro Detektywistyczne Lassego i Mai. Tajemnica Skorpiona\, reż. Tina Mackic
DESCRIPTION:[vc_row][vc_column width=”1/2″][vc_single_image image=”5179″ img_size=”full”][vc_column_text]Bilety w cenie 10 zł do nabycia w kasie przed wydarzeniem lub online poniżej:[/vc_column_text][vc_single_image image=”2035″ onclick=”custom_link” img_link_target=”_blank” link=”https://ekobilet.pl/e/biuro-detektywistyczne-lassego-i-mai-tajemnica-skorpiona-film-594944?evt=594944″][/vc_column][vc_column width=”1/2″][vc_column_text] \nTytuł: Biuro Detektywistyczne Lassego i Mai. Tajemnica Skorpiona\nReżyser: Tina Mackic\nKraj produkcji: Szwecja Rok produkcji: 2022\nGatunek filmowy: Film dla dzieci i młodzieży\nCzas trwania: 83 minuty \n„Biuro Detektywistyczne Lassego i Mai. Tajemnica Skorpiona” to szwedzki film familijny z 2022 roku\, oparty na popularnej serii książek Martina Widmarka. W spokojnym miasteczku Valleby trwają przygotowania do wielkiej uroczystości – obchodów 500-lecia miasta. Jednak święto zostaje zakłócone przez serię zuchwałych kradzieży. Sprawca zostawia po sobie ślad w postaci tajemniczego znaku skorpiona. Policja jest bezradna\, więc do akcji wkraczają niezawodni młodzi detektywi – Lasse i Maja. W rozwiązaniu zagadki pomaga im Lillie – emerytowana złodziejka o złotym sercu. Film łączy elementy kryminału\, komedii i przygody\, zachęcając młodszych widzów do logicznego myślenia i współpracy. Produkcja zdobyła Nagrodę Publiczności na Międzynarodowym Festiwalu Filmowym Kino Dzieci\, a jej barwna scenografia i wartka akcja sprawiają\, że to świetna propozycja dla całej rodziny. \n[/vc_column_text][vc_column_text]https://youtu.be/tUvY6EyK70U[/vc_column_text][/vc_column][/vc_row]
URL:https://podlasieslowfest.pl/event/tajemnica-skorpiona/
LOCATION:Dom Ludowy w Supraślu\, ul. Piłsudskiego 11\, Supraśl\, Podlaskie
CATEGORIES:Dzieci,Film
ATTACH;FMTTYPE=image/jpeg:https://podlasieslowfest.pl/wp-content/uploads/2025/05/Biuro-detektywistyczne-Tajemnica-Skorpiona-5.jpg
ORGANIZER;CN="Stowarzyszenie%20Dalapenia":MAILTO:kontakt@dalapenia.pl
END:VEVENT
BEGIN:VEVENT
DTSTART;TZID=Europe/Warsaw:20250727T200000
DTEND;TZID=Europe/Warsaw:20250727T220000
DTSTAMP:20260424T140554
CREATED:20250504T122828Z
LAST-MODIFIED:20250722T205958Z
UID:5070-1753646400-1753653600@podlasieslowfest.pl
SUMMARY:Koncert Arianna Savall / Petter Udland Johansen Hirundo Maris (ESP/N/PL)
DESCRIPTION:[vc_row][vc_column width=”1/2″][vc_single_image image=”5071″ img_size=”full”][vc_column_text]Bilety w cenie 60 zł do nabycia w kasie przed wydarzeniem lub online poniżej:[/vc_column_text][vc_single_image image=”2035″ onclick=”custom_link” img_link_target=”_blank” link=”https://ekobilet.pl/e/arianna-savall-petter-udland-johansen-hirundo-maris-koncert-594945?evt=594945″][/vc_column][vc_column width=”1/2″][vc_column_text]Arianna Savall & Petter Udland Johansen „Hirundo Maris” \nArianna Savall – harfa\, śpiew\,\nPetter Udland Johansen – hardingfele\, śpiew\nMichał Nagy – gitara klasyczna \nProjekt Hirundo Maris to wyjątkowe zjawisko na światowej scenie muzycznej – łączy w sobie bogactwo europejskich tradycji muzycznych z niezwykłą wrażliwością i kunsztem wykonawczym. W ich repertuarze odnajdziemy utwory od średniowiecza\, poprzez renesans\, barok\, aż po muzykę ludową i autorskie kompozycje inspirowane dawnymi formami. Muzyka Hirundo Maris jest głęboko zakorzeniona w dziedzictwie krajów śródziemnomorskich oraz Północy – szczególne miejsce zajmują w niej pieśni sefardyjskie\, katalońskie\, norweskie czy bretońskie. Śpiewane w oryginalnych językach – ladino\, katalońskim\, norweskim czy arabskim – pieśni te opowiadają historie o miłości\, tęsknocie\, podróżach i duchowości. Wspólnym mianownikiem ich brzmienia jest melancholia i medytacyjny charakter\, a jednocześnie rytmiczna różnorodność\, wynikająca z bogatego instrumentarium: od harfy i gitar\, przez skrzypce hardanger\, aż po orientalne instrumenty perkusyjne. \nKoncerty Hirundo Maris są niczym muzyczne opowieści – snute z delikatnością i szacunkiem do tradycji\, a zarazem pełne świeżości i autentyczności. Wyróżniają się wysoką kulturą wykonawczą\, sceniczną elegancją i subtelną interakcją między muzykami. Ich występy odbierane są przez publiczność jako doświadczenie głęboko poruszające – emocjonalne\, duchowe i estetyczne zarazem. \n„Arianna Savall ma głos anioła. W połączeniu z instrumentarium Hirundo Maris tworzy magiczną atmosferę.” \n„Muzyka Hirundo Maris działa jak balsam – spowalnia czas\, otwiera serce i pozwala zanurzyć się w świecie dźwięków\, który wydaje się starszy niż pamięć.”[/vc_column_text][vc_column_text]https://youtu.be/rnrELu79vPs?si=1hpcnrzqVkjF3Rym \n[/vc_column_text][/vc_column][/vc_row]
URL:https://podlasieslowfest.pl/event/savall_johansen/
LOCATION:Akademia Supraska
CATEGORIES:Koncert
ATTACH;FMTTYPE=image/jpeg:https://podlasieslowfest.pl/wp-content/uploads/2025/05/Arianna-Savall.jpg
ORGANIZER;CN="Stowarzyszenie%20Dalapenia":MAILTO:kontakt@dalapenia.pl
END:VEVENT
END:VCALENDAR