BEGIN:VCALENDAR
VERSION:2.0
PRODID:-//Podlasie SLOWFEST by ŁOMŻA - ECPv5.13.0//NONSGML v1.0//EN
CALSCALE:GREGORIAN
METHOD:PUBLISH
X-WR-CALNAME:Podlasie SLOWFEST by ŁOMŻA
X-ORIGINAL-URL:https://podlasieslowfest.pl
X-WR-CALDESC:Events for Podlasie SLOWFEST by ŁOMŻA
REFRESH-INTERVAL;VALUE=DURATION:PT1H
X-Robots-Tag:noindex
X-PUBLISHED-TTL:PT1H
BEGIN:VTIMEZONE
TZID:Europe/Warsaw
BEGIN:DAYLIGHT
TZOFFSETFROM:+0100
TZOFFSETTO:+0200
TZNAME:CEST
DTSTART:20250330T010000
END:DAYLIGHT
BEGIN:STANDARD
TZOFFSETFROM:+0200
TZOFFSETTO:+0100
TZNAME:CET
DTSTART:20251026T010000
END:STANDARD
END:VTIMEZONE
BEGIN:VEVENT
DTSTART;TZID=Europe/Warsaw:20250726T103000
DTEND;TZID=Europe/Warsaw:20250726T200000
DTSTAMP:20260424T140619
CREATED:20250723T152844Z
LAST-MODIFIED:20250723T152909Z
UID:5478-1753525800-1753560000@podlasieslowfest.pl
SUMMARY:Bookcrossing
DESCRIPTION:[vc_row][vc_column width=”1/2″][vc_single_image image=”5459″ img_size=”full”][vc_column_text]wstęp wolny[/vc_column_text][/vc_column][vc_column width=”1/2″][vc_column_text]Strefa Wolnych Książek na Podlasie SlowFest by Łomża\nSupraśl\, scena letnia z tyłu Domu Ludowego | codziennie\, ok. 10.00–20.00 \nW zacisznym zakątku za Domem Ludowym\, pod osłoną drzew\, czeka na Państwa nasza strefa bookcrossingu. To miejsce stworzone z myślą o tych\, którzy wierzą\, że literatura łączy ludzi ponad czasem i przestrzenią. \nTo tradycja\, która już na stałe wpisała się w pejzaż Podlasie SlowFest by Łomża. Cichy rytuał dzielenia się słowem. \nBookcrossing to nie tylko wymiana książek. To gest zaufania\, znak wspólnoty czytelników. Pozwalamy książkom wędrować z rąk do rąk\, z domów do plecaków\, z serc do serc. Każdy i każda może zabrać ze sobą wybraną książkę\, która czeka właśnie na Was. \nNie oczekujemy niczego w zamian.\nWierzymy\, że książki chcą być czytane – dlatego przygotowaliśmy dla Państwa starannie wybrane tytuły\, które można po prostu zabrać ze sobą. Na spacer. Na hamak. Do domu. \nNie trzeba nic przynosić – choć jeśli ktoś ma ochotę\, można zostawić książkę\, by ruszyła dalej w drogę. Najważniejsze\, by czytać – i pozwolić książkom żyć dalej\, kiedy już spełnią swoją rolę. \nJak korzystać?\n\nPrzyjdź\, rozejrzyj się\, weź książkę\, która Cię poruszy.\nZatrzymaj ją\, przeczytaj\, podaj dalej.\nMożesz zostawić książkę\, ale nie musisz.\nMożesz zostawić też kilka słów dla kolejnego czytelnika: cytat\, myśl\, znak obecności.\nSzanuj książki. Niech to miejsce będzie bezpieczną przystanią dla słowa.\n\nNiech książki wędrują. Niech słowo trwa. Niech dzielenie się czytaniem stanie się ponownie częścią letniego rytmu SlowFestu.[/vc_column_text][/vc_column][/vc_row]
URL:https://podlasieslowfest.pl/event/bookcrossing-copy-7/
LOCATION:Dom Ludowy w Supraślu\, ul. Piłsudskiego 11\, Supraśl\, Podlaskie
CATEGORIES:Literatura
ATTACH;FMTTYPE=image/png:https://podlasieslowfest.pl/wp-content/uploads/2025/07/bookcrossing1000-x-315-px.png
ORGANIZER;CN="Stowarzyszenie%20Dalapenia":MAILTO:kontakt@dalapenia.pl
END:VEVENT
BEGIN:VEVENT
DTSTART;TZID=Europe/Warsaw:20250726T180000
DTEND;TZID=Europe/Warsaw:20250726T200000
DTSTAMP:20260424T140619
CREATED:20250504T124956Z
LAST-MODIFIED:20250722T170725Z
UID:5077-1753552800-1753560000@podlasieslowfest.pl
SUMMARY:Film Tabu\, reż. Miguel Gomes
DESCRIPTION:[vc_row][vc_column width=”1/2″][vc_single_image image=”5080″ img_size=”full”][vc_column_text]Bilety w cenie 15 zł do nabycia w kasie przed wydarzeniem lub online poniżej:[/vc_column_text][vc_single_image image=”2035″ onclick=”custom_link” img_link_target=”_blank” link=”https://ekobilet.pl/e/tabu-film-594892?evt=594892″][/vc_column][vc_column width=”1/2″][vc_column_text]Film Tabu\, reż. Miguel Gomes \nPortugalia\, 2012 \nGatunek filmowy: Dramat\nCzas trwania: 118 minut \nNagrody:\n• Najlepszy montaż – Sophia Awards 2013 (Portugalia)\n• Najlepszy reżyser – Cineport – Portuguese Film Festival 2014\n• Nagroda krytyków – SESC Film Festival\, Brazylia 2014\n• Najlepszy portugalski film – Cinema Bloggers Awards 2013 \nPoetycka i nieoczywista podróż przez kontynenty i epoki. Pierwsza część filmu rozgrywa się w Lizbonie\, gdzie starsza kobieta ukrywa bolesną tajemnicę sprzed lat. Druga – to wspomnienie jej młodości w Afryce\, pełne namiętności\, zakazanej miłości i kolonialnego niepokoju. Miguel Gomes splata osobiste losy bohaterów z wielką historią\, używając przy tym niecodziennej narracji i formy: czarno-białych zdjęć\, niemych fragmentów\, dźwiękowych kolaży. Tabu to film jedyny w swoim rodzaju – melancholijny\, stylowy\, pełen uroku\, humoru i refleksji nad pamięcią\, miłością i przemijaniem.[/vc_column_text][vc_column_text]https://youtu.be/67lWmMfKQa0?si=zxnlqKu9P0FiQSsK \n[/vc_column_text][/vc_column][/vc_row]
URL:https://podlasieslowfest.pl/event/tabu/
LOCATION:Dom Ludowy w Supraślu\, ul. Piłsudskiego 11\, Supraśl\, Podlaskie
CATEGORIES:Film
ATTACH;FMTTYPE=image/jpeg:https://podlasieslowfest.pl/wp-content/uploads/2025/05/Tabu2-1600x900-c-default.jpg
ORGANIZER;CN="Stowarzyszenie%20Dalapenia":MAILTO:kontakt@dalapenia.pl
END:VEVENT
BEGIN:VEVENT
DTSTART;TZID=Europe/Warsaw:20250726T203000
DTEND;TZID=Europe/Warsaw:20250726T223000
DTSTAMP:20260424T140619
CREATED:20250504T140047Z
LAST-MODIFIED:20250722T170801Z
UID:5083-1753561800-1753569000@podlasieslowfest.pl
SUMMARY:Film Grand Tour\, reż. Miguel Gomes
DESCRIPTION:[vc_row][vc_column width=”1/2″][vc_single_image image=”5084″ img_size=”full”][vc_column_text]Bilety w cenie 15 zł do nabycia w kasie przed wydarzeniem lub online poniżej:[/vc_column_text][vc_single_image image=”2035″ onclick=”custom_link” img_link_target=”_blank” link=”https://ekobilet.pl/e/grand-tour-film-594906?evt=594906″][/vc_column][vc_column width=”1/2″][vc_column_text]Film Grand Tour\, reż. Miguel Gomes \nPortugalia/Włochy/Francja/Niemcy\, 2024 \nGatunek filmowy: Dramat przygodowy\nCzas trwania: 129 minut \nNagrody:\n• Najlepszy reżyser – Festiwal Filmowy w Cannes 2024\n• Srebrny Hugo za reżyserię i montaż – Chicago International Film Festival 2024\n• Nominacja do Złotej Palmy – Festiwal Filmowy w Cannes 2024 \nMiguel Gomes zabiera widzów w kinową podróż dookoła Azji\, inspirowaną tradycją europejskich wypraw i duchowym rozedrganiem współczesności. W 1917 roku Edward\, brytyjski urzędnik\, ucieka sprzed ołtarza\, przemierzając egzotyczne miasta Birmy\, Japonii\, Indonezji i Tajlandii. Tuż za nim podąża jego narzeczona. Grand Tour jest filmem podróży\, lecz także esejem o przemijaniu\, niemożliwości ucieczki i pogoni za sensem. Nakręcony na taśmie 16 mm\, zachwyca wizualnie i łączy dokumentalną obserwację z fikcją\, współczesność z rekonstrukcją\, codzienność z marzeniem. Kino autorskie najwyższej próby. \n[/vc_column_text][vc_column_text]https://youtu.be/gyCpLLmQlRk?si=p6DBQvXMVXd7sV4U \n[/vc_column_text][/vc_column][/vc_row]
URL:https://podlasieslowfest.pl/event/grand_tour/
LOCATION:Dom Ludowy w Supraślu\, ul. Piłsudskiego 11\, Supraśl\, Podlaskie
CATEGORIES:Film
ATTACH;FMTTYPE=image/jpeg:https://podlasieslowfest.pl/wp-content/uploads/2025/05/granTour.jpg
ORGANIZER;CN="Stowarzyszenie%20Dalapenia":MAILTO:kontakt@dalapenia.pl
END:VEVENT
END:VCALENDAR