BEGIN:VCALENDAR
VERSION:2.0
PRODID:-//Podlasie SLOWFEST by ŁOMŻA - ECPv5.13.0//NONSGML v1.0//EN
CALSCALE:GREGORIAN
METHOD:PUBLISH
X-WR-CALNAME:Podlasie SLOWFEST by ŁOMŻA
X-ORIGINAL-URL:https://podlasieslowfest.pl
X-WR-CALDESC:Events for Podlasie SLOWFEST by ŁOMŻA
REFRESH-INTERVAL;VALUE=DURATION:PT1H
X-Robots-Tag:noindex
X-PUBLISHED-TTL:PT1H
BEGIN:VTIMEZONE
TZID:Europe/Warsaw
BEGIN:DAYLIGHT
TZOFFSETFROM:+0100
TZOFFSETTO:+0200
TZNAME:CEST
DTSTART:20250330T010000
END:DAYLIGHT
BEGIN:STANDARD
TZOFFSETFROM:+0200
TZOFFSETTO:+0100
TZNAME:CET
DTSTART:20251026T010000
END:STANDARD
END:VTIMEZONE
BEGIN:VEVENT
DTSTART;TZID=Europe/Warsaw:20250719T200000
DTEND;TZID=Europe/Warsaw:20250719T213000
DTSTAMP:20260424T140528
CREATED:20250504T111344Z
LAST-MODIFIED:20250718T153941Z
UID:5049-1752955200-1752960600@podlasieslowfest.pl
SUMMARY:Koncert SlowKlang (A)
DESCRIPTION:[vc_row][vc_column width=”1/2″][vc_single_image image=”5050″ img_size=”full”][vc_column_text]Obowiązują wejściówki na wydarzenie. \nUWAGA! Brak wolnych miejsc. W razie rezygnacji z rezerwacji prosimy o zwrot przez system biletowy.[/vc_column_text][vc_single_image image=”3801″ onclick=”custom_link” link=”https://ekobilet.pl/e/koncert-slowklang-a-597357?evt=597357″][/vc_column][vc_column width=”1/2″][vc_column_text]SlowKlang (A) \nAmina Bouroyen – wokal\nRobin Gadermaier – gitara basowa\, syntezator\nRobert Unterköfler – saksofon \nZespół SlowKlang to austriackie trio jazzowe z Wiednia\, które tworzy unikalne\, spowolnione pejzaże dźwiękowe\, balansujące między formą piosenki a zaawansowaną improwizacją. Ich muzyka to połączenie atmosferycznych brzmień\, spontaniczności i emocjonalnej głębi.\nSlowKlang został wybrany do prestiżowego programu The New Austrian Sound of Music\, co świadczy o ich wyjątkowym talencie i innowacyjnym podejściu do muzyki jazzowej. Ich debiutancki album „Mindscapes” został wydany przez Jazzwerkstatt Records i spotkał się z entuzjastycznym przyjęciem. Na festiwalu Podlasie SlowFest by Łomża zespół wystąpi w znakomitej sali Hali Kultury w Łomży\, gdzie zaprezentuje swój unikalny styl\, łączący jazz z elementami muzyki eksperymentalnej. \n„Mistycznie piękny. To jeden z najbardziej ekscytujących albumów ostatnich pięciu lat.”[/vc_column_text][vc_column_text]https://youtu.be/3XMFS3NXJJk?si=RCISWxuPnCUNbXET \n[/vc_column_text][vc_single_image image=”4959″][vc_single_image image=”2342″ img_size=”medium” onclick=”custom_link” link=”http://austria.org.pl”][/vc_column][/vc_row]
URL:https://podlasieslowfest.pl/event/slowklang/
LOCATION:Hala Kultury w Łomży\, Stary Rynek\, Łomża\, Polska
CATEGORIES:Koncert,Muzyka
ATTACH;FMTTYPE=image/jpeg:https://podlasieslowfest.pl/wp-content/uploads/2025/05/Slowklang_47-scaled.jpg
ORGANIZER;CN="Stowarzyszenie%20Dalapenia":MAILTO:kontakt@dalapenia.pl
END:VEVENT
END:VCALENDAR